BEGIN:VCALENDAR
VERSION:2.0
PRODID:-//Portadown Golf Club - ECPv6.15.18//NONSGML v1.0//EN
CALSCALE:GREGORIAN
METHOD:PUBLISH
X-WR-CALNAME:Portadown Golf Club
X-ORIGINAL-URL:https://www.portadowngolfclub.co.uk
X-WR-CALDESC:Events for Portadown Golf Club
REFRESH-INTERVAL;VALUE=DURATION:PT1H
X-Robots-Tag:noindex
X-PUBLISHED-TTL:PT1H
BEGIN:VTIMEZONE
TZID:Europe/London
BEGIN:DAYLIGHT
TZOFFSETFROM:+0000
TZOFFSETTO:+0100
TZNAME:BST
DTSTART:20230326T010000
END:DAYLIGHT
BEGIN:STANDARD
TZOFFSETFROM:+0100
TZOFFSETTO:+0000
TZNAME:GMT
DTSTART:20231029T010000
END:STANDARD
BEGIN:DAYLIGHT
TZOFFSETFROM:+0000
TZOFFSETTO:+0100
TZNAME:BST
DTSTART:20240331T010000
END:DAYLIGHT
BEGIN:STANDARD
TZOFFSETFROM:+0100
TZOFFSETTO:+0000
TZNAME:GMT
DTSTART:20241027T010000
END:STANDARD
BEGIN:DAYLIGHT
TZOFFSETFROM:+0000
TZOFFSETTO:+0100
TZNAME:BST
DTSTART:20250330T010000
END:DAYLIGHT
BEGIN:STANDARD
TZOFFSETFROM:+0100
TZOFFSETTO:+0000
TZNAME:GMT
DTSTART:20251026T010000
END:STANDARD
BEGIN:DAYLIGHT
TZOFFSETFROM:+0000
TZOFFSETTO:+0100
TZNAME:BST
DTSTART:20260329T010000
END:DAYLIGHT
BEGIN:STANDARD
TZOFFSETFROM:+0100
TZOFFSETTO:+0000
TZNAME:GMT
DTSTART:20261025T010000
END:STANDARD
BEGIN:DAYLIGHT
TZOFFSETFROM:+0000
TZOFFSETTO:+0100
TZNAME:BST
DTSTART:20270328T010000
END:DAYLIGHT
BEGIN:STANDARD
TZOFFSETFROM:+0100
TZOFFSETTO:+0000
TZNAME:GMT
DTSTART:20271031T010000
END:STANDARD
END:VTIMEZONE
BEGIN:VEVENT
DTSTART;TZID=Europe/London:20260205T000000
DTEND;TZID=Europe/London:20260501T005900
DTSTAMP:20260421T184409
CREATED:20240123T201433Z
LAST-MODIFIED:20251105T162524Z
UID:10000095-1770249600-1777597140@www.portadowngolfclub.co.uk
SUMMARY:Open Competitions
DESCRIPTION:Open Stableford for Ladies & Men \n  \n 
URL:https://www.portadowngolfclub.co.uk/event/test-event/2026-02-05/
END:VEVENT
BEGIN:VEVENT
DTSTART;TZID=Europe/London:20260129T000000
DTEND;TZID=Europe/London:20260424T005900
DTSTAMP:20260421T184409
CREATED:20240123T201433Z
LAST-MODIFIED:20251105T162524Z
UID:10000094-1769644800-1776992340@www.portadowngolfclub.co.uk
SUMMARY:Open Competitions
DESCRIPTION:Open Stableford for Ladies & Men \n  \n 
URL:https://www.portadowngolfclub.co.uk/event/test-event/2026-01-29/
END:VEVENT
BEGIN:VEVENT
DTSTART;TZID=Europe/London:20260122T000000
DTEND;TZID=Europe/London:20260417T005900
DTSTAMP:20260421T184409
CREATED:20240123T201433Z
LAST-MODIFIED:20251105T162524Z
UID:10000093-1769040000-1776387540@www.portadowngolfclub.co.uk
SUMMARY:Open Competitions
DESCRIPTION:Open Stableford for Ladies & Men \n  \n 
URL:https://www.portadowngolfclub.co.uk/event/test-event/2026-01-22/
END:VEVENT
BEGIN:VEVENT
DTSTART;TZID=Europe/London:20260115T000000
DTEND;TZID=Europe/London:20260410T005900
DTSTAMP:20260421T184409
CREATED:20240123T201433Z
LAST-MODIFIED:20251105T162524Z
UID:10000092-1768435200-1775782740@www.portadowngolfclub.co.uk
SUMMARY:Open Competitions
DESCRIPTION:Open Stableford for Ladies & Men \n  \n 
URL:https://www.portadowngolfclub.co.uk/event/test-event/2026-01-15/
END:VEVENT
BEGIN:VEVENT
DTSTART;TZID=Europe/London:20260108T000000
DTEND;TZID=Europe/London:20260403T005900
DTSTAMP:20260421T184409
CREATED:20240123T201433Z
LAST-MODIFIED:20251105T162524Z
UID:10000091-1767830400-1775177940@www.portadowngolfclub.co.uk
SUMMARY:Open Competitions
DESCRIPTION:Open Stableford for Ladies & Men \n  \n 
URL:https://www.portadowngolfclub.co.uk/event/test-event/2026-01-08/
END:VEVENT
BEGIN:VEVENT
DTSTART;TZID=Europe/London:20260101T000000
DTEND;TZID=Europe/London:20260326T235900
DTSTAMP:20260421T184409
CREATED:20240123T201433Z
LAST-MODIFIED:20251105T162524Z
UID:10000090-1767225600-1774569540@www.portadowngolfclub.co.uk
SUMMARY:Open Competitions
DESCRIPTION:Open Stableford for Ladies & Men \n  \n 
URL:https://www.portadowngolfclub.co.uk/event/test-event/2026-01-01/
END:VEVENT
BEGIN:VEVENT
DTSTART;VALUE=DATE:20240506
DTEND;VALUE=DATE:20240508
DTSTAMP:20260421T184409
CREATED:20240419T095242Z
LAST-MODIFIED:20240419T095242Z
UID:10000002-1714957200-1715043599@www.portadowngolfclub.co.uk
SUMMARY:Open Competitions
DESCRIPTION:Bank Holiday All Gender Open Stableford
URL:https://www.portadowngolfclub.co.uk/event/open-competitions/
END:VEVENT
END:VCALENDAR